BEGIN:VCALENDAR
VERSION:2.0
PRODID:-//USC Big Data Health Science Center - ECPv6.15.20//NONSGML v1.0//EN
CALSCALE:GREGORIAN
METHOD:PUBLISH
X-ORIGINAL-URL:https://bigdata.sc.edu
X-WR-CALDESC:Events for USC Big Data Health Science Center
REFRESH-INTERVAL;VALUE=DURATION:PT1H
X-Robots-Tag:noindex
X-PUBLISHED-TTL:PT1H
BEGIN:VTIMEZONE
TZID:UTC
BEGIN:STANDARD
TZOFFSETFROM:+0000
TZOFFSETTO:+0000
TZNAME:UTC
DTSTART:20190101T000000
END:STANDARD
END:VTIMEZONE
BEGIN:VEVENT
DTSTART;VALUE=DATE:20200207
DTEND;VALUE=DATE:20200210
DTSTAMP:20260425T112225
CREATED:20191209T043602Z
LAST-MODIFIED:20191209T043809Z
UID:322-1581033600-1581292799@bigdata.sc.edu
SUMMARY:UofSC National Big Data Health Science Conference\, Case Competition 2020
DESCRIPTION:UofSC National Big Data Health Science Conference\, Case Competition 2020 \nThe Big Data Health Science Case Competition will be held between February 7th-9th 2020 before the University of South Carolina’s National Big Data Health Science Conference. The Big Data Case Competition is intended to provide enthusiastic teams of graduate and senior undergraduate students with the opportunity to apply their knowledge to the analysis of big datasets in healthcare.\nhttps://www.sc-bdhs-conference.org/case-competition/ \nRegister at https://www.sc-bdhs-conference.org/registration-information/
URL:https://bigdata.sc.edu/event/uofsc-national-big-data-health-science-conference-case-competition-2020/
END:VEVENT
BEGIN:VEVENT
DTSTART;VALUE=DATE:20200209
DTEND;VALUE=DATE:20200212
DTSTAMP:20260425T112225
CREATED:20191209T043643Z
LAST-MODIFIED:20191209T043732Z
UID:324-1581206400-1581465599@bigdata.sc.edu
SUMMARY:UofSC National Big Data Health Science Conference
DESCRIPTION:UofSC National Big Data Health Science Conference \nThe University of South Carolina’s National Big Data Health Science Conference is a signature annual event of the UofSC Big Data Health Science Center (BDHSC). The theme for the 2020 Conference: Unlocking the Power of Big Data in Health – Partnerships among Industry\, Government\, and Academia. https://www.sc-bdhs-conference.org/ \nRegister at https://www.sc-bdhs-conference.org/registration-information/
URL:https://bigdata.sc.edu/event/uofsc-national-big-data-health-science-conference/
END:VEVENT
END:VCALENDAR