BEGIN:VCALENDAR
VERSION:2.0
PRODID:-//USC Big Data Health Science Center - ECPv6.15.20//NONSGML v1.0//EN
CALSCALE:GREGORIAN
METHOD:PUBLISH
X-ORIGINAL-URL:https://bigdata.sc.edu
X-WR-CALDESC:Events for USC Big Data Health Science Center
REFRESH-INTERVAL;VALUE=DURATION:PT1H
X-Robots-Tag:noindex
X-PUBLISHED-TTL:PT1H
BEGIN:VTIMEZONE
TZID:UTC
BEGIN:STANDARD
TZOFFSETFROM:+0000
TZOFFSETTO:+0000
TZNAME:UTC
DTSTART:20190101T000000
END:STANDARD
END:VTIMEZONE
BEGIN:VEVENT
DTSTART;TZID=UTC:20200226T110000
DTEND;TZID=UTC:20200226T123000
DTSTAMP:20260424T233229
CREATED:20200211T163737Z
LAST-MODIFIED:20200212T134404Z
UID:501-1582714800-1582720200@bigdata.sc.edu
SUMMARY:“Bayesian Regression for Group Testing Data”
DESCRIPTION:Abstract:\nGroup testing involves pooling individual specimens (e.g.\, blood\, urine\, swabs\, etc.) and testing the pools for the presence of a disease. When individual covariate information is available (e.g.\, age\, gender\, number of sexual partners\, etc.)\, a common goal is to relate an individual’s true disease status to the covariates in a regression model. Estimating this relationship is a nonstandard problem in group testing because true individual statuses are not observed and all testing responses (on pools and on individuals) are subject to misclassification arising from assay error. Previous regression methods for group testing data can be inefficient because they are restricted to using only initial pool responses and/or they make potentially unrealistic assumptions regarding the assay accuracy probabilities. To overcome these limitations\, we propose a general Bayesian regression framework for modeling group testing data. The novelty of our approach is that it can be easily implemented with data from any group testing protocol. Furthermore\, our approach will simultaneously estimate assay accuracy probabilities (along with the covariate effects) and can even be applied in screening situations where multiple assays are used. We apply our methods to group testing data collected in Iowa as part of statewide screening efforts for chlamydia\, and we make user-friendly R code available to practitioners. \nAbout the speaker:\nDr. Tebbs is Professor and Chair in the Department of Statistics\, USC\, an Associate Editor at Statistics in Medicine and a member of the Biostatistical Methods and Research Design Study Section of the NIH. Dr. Tebbs’ primary research interests are in the development of statistical methods for categorical data\, especially aggregated or group tested data and their application in infectious disease screening\, as well as in general biostatistical methods and problems involving ordering or shape restrictions. His research program is funded by the NIH. \nRegister at https://www.eventbrite.com/e/uofsc-bdhscs-monthly-seminars-tickets-93359339297
URL:https://bigdata.sc.edu/event/bayesian-regression-for-group-testing-data/
LOCATION:Room 140\, Discovery I\, 915 Greene Street\, Columbia\, SC\, 29208\, United States
END:VEVENT
END:VCALENDAR