BEGIN:VCALENDAR
VERSION:2.0
PRODID:-//USC Big Data Health Science Center - ECPv6.15.20//NONSGML v1.0//EN
CALSCALE:GREGORIAN
METHOD:PUBLISH
X-ORIGINAL-URL:https://bigdata.sc.edu
X-WR-CALDESC:Events for USC Big Data Health Science Center
REFRESH-INTERVAL;VALUE=DURATION:PT1H
X-Robots-Tag:noindex
X-PUBLISHED-TTL:PT1H
BEGIN:VTIMEZONE
TZID:UTC
BEGIN:STANDARD
TZOFFSETFROM:+0000
TZOFFSETTO:+0000
TZNAME:UTC
DTSTART:20210101T000000
END:STANDARD
END:VTIMEZONE
BEGIN:VEVENT
DTSTART;TZID=UTC:20230929T090000
DTEND;TZID=UTC:20230929T130000
DTSTAMP:20260422T030552
CREATED:20230804T110249Z
LAST-MODIFIED:20230831T153357Z
UID:6718-1695978000-1695992400@bigdata.sc.edu
SUMMARY:Big Data Health Science Center Annual Retreat 2023
DESCRIPTION:Please join us for the 2023 BDHSC Annual Retreat. See below for full details. Please help us to get an accurate head count for food by registering here.\n\nThis retreat is geared towards faculty. Post docs and doctoral candidates welcome.
URL:https://bigdata.sc.edu/event/bdhsc-annual-retreat-2023/
LOCATION:Campus Room\, Capstone Hall\, 902 Barnwell St\, Columbia\, SC\, 29208\, United States
CATEGORIES:Retreats
END:VEVENT
BEGIN:VEVENT
DTSTART;TZID=UTC:20220930T090000
DTEND;TZID=UTC:20220930T130000
DTSTAMP:20260422T030552
CREATED:20220818T124748Z
LAST-MODIFIED:20230804T105613Z
UID:4655-1664528400-1664542800@bigdata.sc.edu
SUMMARY:Big Data Health Science Center Annual Retreat 2022
DESCRIPTION:ePlease see the below for information about the upcoming BDHSC retreat and networking luncheon (9/30). This event is intended for BDHSC affiliates and stakeholders to gather and discuss extramurally funded research\, opportunities for collaboration\, and challenges in data acquisition. Students must seek permission prior to registering. BDHSC faculty affiliates and core members are encouraged to attend. \nRegister (in-person only) at BDHSC Annual Retreat Registration (google.com).
URL:https://bigdata.sc.edu/event/bdhsc-annual-retreat-2022/
LOCATION:Campus Room\, Capstone Hall\, 902 Barnwell St\, Columbia\, SC\, 29208\, United States
CATEGORIES:Retreats
END:VEVENT
END:VCALENDAR