BEGIN:VCALENDAR
VERSION:2.0
PRODID:-//USC Big Data Health Science Center - ECPv6.15.20//NONSGML v1.0//EN
CALSCALE:GREGORIAN
METHOD:PUBLISH
X-ORIGINAL-URL:https://bigdata.sc.edu
X-WR-CALDESC:Events for USC Big Data Health Science Center
REFRESH-INTERVAL;VALUE=DURATION:PT1H
X-Robots-Tag:noindex
X-PUBLISHED-TTL:PT1H
BEGIN:VTIMEZONE
TZID:UTC
BEGIN:STANDARD
TZOFFSETFROM:+0000
TZOFFSETTO:+0000
TZNAME:UTC
DTSTART:20230101T000000
END:STANDARD
END:VTIMEZONE
BEGIN:VEVENT
DTSTART;VALUE=DATE:20240731
DTEND;VALUE=DATE:20240802
DTSTAMP:20260420T180259
CREATED:20240702T182150Z
LAST-MODIFIED:20240702T182150Z
UID:8511-1722384000-1722556799@bigdata.sc.edu
SUMMARY:NSF ACCESS HPC Monthly Workshop on “Machine Learning and Big Data”
DESCRIPTION:The USC Research Computing\, Division of Information Technology\, and Big Data Health Science Center will host a remote site for the NSF ACCESS NSF ACCESS HPC Monthly Workshop on “Machine Learning and Big Data” presented by the Pittsburgh Supercomputing Center.  The workshop will be held on July 31 and August 1\, 2024\, from 11 a.m. to 5 p.m. in Room 1400 of the Innovation Center Building\, 550 Assembly Street\, Columbia\, SC 29201. This will be an in-person event hosted by various satellite sites; there WILL NOT be a direct-to-desktop option for this event. \nThis workshop will focus on topics including big data analytics\, machine learning using Spark\, and deep learning using Tensorflow. \nThe deadline to register for this event is July 26\, 2024. Interested applicants must first set up an access ID. For instructions on how to set up your ACCESS ID and register for this workshop\, please visit the “HPC Monthly Workshop: Machine Learning and Big Data” webpage at https://www.psc.edu/resources/training/hpc-workshop-big-data-july-2024/.
URL:https://bigdata.sc.edu/event/nsf-access-hpc-monthly-workshop-on-machine-learning-and-big-data/
LOCATION:Innovation Center Building Room 1400\, 550 Assembly Street\, Columbia\, SC\, 29201\, United States
END:VEVENT
END:VCALENDAR