BEGIN:VCALENDAR
VERSION:2.0
PRODID:-//USC Big Data Health Science Center - ECPv6.15.20//NONSGML v1.0//EN
CALSCALE:GREGORIAN
METHOD:PUBLISH
X-ORIGINAL-URL:https://bigdata.sc.edu
X-WR-CALDESC:Events for USC Big Data Health Science Center
REFRESH-INTERVAL;VALUE=DURATION:PT1H
X-Robots-Tag:noindex
X-PUBLISHED-TTL:PT1H
BEGIN:VTIMEZONE
TZID:UTC
BEGIN:STANDARD
TZOFFSETFROM:+0000
TZOFFSETTO:+0000
TZNAME:UTC
DTSTART:20210101T000000
END:STANDARD
END:VTIMEZONE
BEGIN:VEVENT
DTSTART;TZID=UTC:20220928T110000
DTEND;TZID=UTC:20220928T120000
DTSTAMP:20260422T053147
CREATED:20220818T122815Z
LAST-MODIFIED:20220818T143208Z
UID:4638-1664362800-1664366400@bigdata.sc.edu
SUMMARY:NIMH Division of AIDS Research Funding Opportunities and Priorities in Data Science
DESCRIPTION:NIMH Division of AIDS Research Funding Opportunities and Priorities in Data Science by Dr. Lori Scott-Sheldon (Chief of Data Science and Emerging Methodologies in HIV at the National Institute of Mental Health). \nRegister at https://forms.gle/RbVP3yd44BNwf5uL9 \nBoxed lunch provided on first come first served basis. \nNo virtual option available but check our website in the weeks following for a recording.
URL:https://bigdata.sc.edu/event/nimh-division-of-aids-research-funding-opportunities-and-priorities-in-data-science/
LOCATION:Koger Center for the Arts\, Gallery Room\, 1051 Greene St\, Columbia\, SC\, 29201\, United States
END:VEVENT
END:VCALENDAR