BEGIN:VCALENDAR
VERSION:2.0
PRODID:-//USC Big Data Health Science Center - ECPv6.15.20//NONSGML v1.0//EN
CALSCALE:GREGORIAN
METHOD:PUBLISH
X-WR-CALNAME:USC Big Data Health Science Center
X-ORIGINAL-URL:https://bigdata.sc.edu
X-WR-CALDESC:Events for USC Big Data Health Science Center
REFRESH-INTERVAL;VALUE=DURATION:PT1H
X-Robots-Tag:noindex
X-PUBLISHED-TTL:PT1H
BEGIN:VTIMEZONE
TZID:UTC
BEGIN:STANDARD
TZOFFSETFROM:+0000
TZOFFSETTO:+0000
TZNAME:UTC
DTSTART:20220101T000000
END:STANDARD
END:VTIMEZONE
BEGIN:VEVENT
DTSTART;VALUE=DATE:20230414
DTEND;VALUE=DATE:20230415
DTSTAMP:20260420T222130
CREATED:20230111T013540Z
LAST-MODIFIED:20230301T134426Z
UID:5767-1681430400-1681516799@bigdata.sc.edu
SUMMARY:Deadline for 2023 Pilot Project Proposals
DESCRIPTION:University of South Carolina Big Data Health Science Center (BDHSC) is seeking proposals for the conduct and uptake of pilot research projects focusing on the Big Data analytics in addressing critical issues related to health behavior\, healthcare\, and population health. \nThe purpose of this RFP is to invite pilot project applications on the utilization of Big Data analytics in health-related research. The primary goals of this pilot project program will be to promote interdisciplinary collaboration in Big Data health science research and support meritorious applications that can leverage existing data to address critical issues related to health behavior\, clinical care\, healthcare delivery\, and population health. Interdisciplinary research that involves linking and integrating data sets from multiple sources are particularly encouraged. Existing data may include\, but are not limited to electronic health records data\, social media data\, geospatial data\, genomic data\, or artificial intelligence for sensing and diagnosis. To get more information\, please check out the full 2023 Pilot Project RFP here. \nFor questions regarding this RFP and proposal submission\, please contact Ms. Miranda Nixon at mc95@mailbox.sc.edu; 803-777-5027.
URL:https://bigdata.sc.edu/event/deadline-for-2023-pilot-project-proposals/
LOCATION:SC
CATEGORIES:Request for Proposal
END:VEVENT
END:VCALENDAR